BEGIN:VCALENDAR
VERSION:2.0
PRODID:-//FIU SigEp Alumni - ECPv4.2.7//NONSGML v1.0//EN
CALSCALE:GREGORIAN
METHOD:PUBLISH
X-WR-CALNAME:FIU SigEp Alumni
X-ORIGINAL-URL:https://www.flnusigepalumni.com
X-WR-CALDESC:Events for FIU SigEp Alumni
BEGIN:VEVENT
DTSTART;TZID=America/New_York:20161210T090000
DTEND;TZID=America/New_York:20161210T160000
DTSTAMP:20260423T174907
CREATED:20151106T123336
LAST-MODIFIED:20161021T230015
UID:6773-1481360400-1481385600@www.flnusigepalumni.com
SUMMARY:Softball Tournament
DESCRIPTION:
URL:https://www.flnusigepalumni.com/event/softball-tournament/
LOCATION:7900 SW 40th St\, Miami\, FL\, 33155\, United States
ATTACH;FMTTYPE=image/jpeg:https://www.flnusigepalumni.com/wp-content/uploads/2015/11/10714074_10152871125288552_4966489729773568884_o.jpg
ORGANIZER;CN="Sean%20Gazitua":MAILTO:sgazitua@wtdc.com
END:VEVENT
END:VCALENDAR