BEGIN:VCALENDAR
VERSION:2.0
PRODID:-//FIU SigEp Alumni - ECPv4.2.7//NONSGML v1.0//EN
CALSCALE:GREGORIAN
METHOD:PUBLISH
X-WR-CALNAME:FIU SigEp Alumni
X-ORIGINAL-URL:https://www.flnusigepalumni.com
X-WR-CALDESC:Events for FIU SigEp Alumni
BEGIN:VEVENT
DTSTART;TZID=America/New_York:20170224T113000
DTEND;TZID=America/New_York:20170224T190000
DTSTAMP:20260423T162525
CREATED:20161023T153034
LAST-MODIFIED:20161024T170135
UID:7186-1487935800-1487962800@www.flnusigepalumni.com
SUMMARY:Red Door Classic
DESCRIPTION:[vc_row fullwidth="false" attached="false" padding="0" visibility="" animation=""][vc_column border_color="" visibility="" width="1/1"][vc_video link="https://youtu.be/NrzntZ9kieI"][/vc_column][/vc_row]
URL:https://www.flnusigepalumni.com/event/red-door-classic/
LOCATION:10000 Biscayne Boulevard\, Miami Shores\, 33138\, United States
ORGANIZER;CN="Tom%20Jelke":MAILTO:tjelke@tjelke.com
END:VEVENT
END:VCALENDAR