BEGIN:VCALENDAR
VERSION:2.0
PRODID:-//FIU SigEp Alumni - ECPv4.2.7//NONSGML v1.0//EN
CALSCALE:GREGORIAN
METHOD:PUBLISH
X-WR-CALNAME:FIU SigEp Alumni
X-ORIGINAL-URL:https://www.flnusigepalumni.com
X-WR-CALDESC:Events for FIU SigEp Alumni
BEGIN:VEVENT
DTSTART;TZID=America/New_York:20170322T180000
DTEND;TZID=America/New_York:20170322T203000
DTSTAMP:20260423T162536
CREATED:20170302T030410
LAST-MODIFIED:20170302T030410
UID:7437-1490205600-1490214600@www.flnusigepalumni.com
SUMMARY:March 2017 Happy Hour
DESCRIPTION:
URL:https://www.flnusigepalumni.com/event/march-2017-happy-hour/
LOCATION:2550 S Bayshore Drive\, Miami\, FL\, 33133\, United States
ORGANIZER;CN="Sean%20Gazitua":MAILTO:sgazitua@wtdc.com
END:VEVENT
END:VCALENDAR