BEGIN:VCALENDAR
VERSION:2.0
PRODID:-//FIU SigEp Alumni - ECPv4.2.7//NONSGML v1.0//EN
CALSCALE:GREGORIAN
METHOD:PUBLISH
X-WR-CALNAME:FIU SigEp Alumni
X-ORIGINAL-URL:https://www.flnusigepalumni.com
X-WR-CALDESC:Events for FIU SigEp Alumni
BEGIN:VEVENT
DTSTART;TZID=America/New_York:20160316T180000
DTEND;TZID=America/New_York:20160316T200000
DTSTAMP:20260423T162704
CREATED:20160125T232420
LAST-MODIFIED:20160302T010939
UID:6840-1458151200-1458158400@www.flnusigepalumni.com
SUMMARY:Happy Hour/Networking Event
DESCRIPTION:
URL:https://www.flnusigepalumni.com/event/happy-hournetworking-event/
LOCATION:495 Brickell Avenue\, Miami\, FL\, 33131\, United States
ORGANIZER;CN="Sean%20Gazitua":MAILTO:sgazitua@wtdc.com
END:VEVENT
END:VCALENDAR