BEGIN:VCALENDAR
VERSION:2.0
PRODID:-//FIU SigEp Alumni - ECPv4.2.7//NONSGML v1.0//EN
CALSCALE:GREGORIAN
METHOD:PUBLISH
X-WR-CALNAME:FIU SigEp Alumni
X-ORIGINAL-URL:https://www.flnusigepalumni.com
X-WR-CALDESC:Events for FIU SigEp Alumni
BEGIN:VEVENT
DTSTART;TZID=America/New_York:20161022T150000
DTEND;TZID=America/New_York:20161022T220000
DTSTAMP:20260423T162633
CREATED:20160623T191826
LAST-MODIFIED:20160930T012105
UID:7189-1477148400-1477173600@www.flnusigepalumni.com
SUMMARY:FIU Homecoming Tailgate & Game
DESCRIPTION:
URL:https://www.flnusigepalumni.com/event/fiu-homecoming-tailgate-game/
LOCATION:11310 SW 17th Street\, Miami\, FL\, 33199\, United States
ORGANIZER;CN="Sean%20Gazitua":MAILTO:sgazitua@wtdc.com
END:VEVENT
END:VCALENDAR