BEGIN:VCALENDAR
VERSION:2.0
PRODID:-//FIU SigEp Alumni - ECPv4.2.7//NONSGML v1.0//EN
CALSCALE:GREGORIAN
METHOD:PUBLISH
X-WR-CALNAME:FIU SigEp Alumni
X-ORIGINAL-URL:https://www.flnusigepalumni.com
X-WR-CALDESC:Events for FIU SigEp Alumni
BEGIN:VEVENT
DTSTART;TZID=America/New_York:20160227T090000
DTEND;TZID=America/New_York:20160227T150000
DTSTAMP:20260423T162835
CREATED:20160129T182423
LAST-MODIFIED:20160129T182423
UID:6859-1456563600-1456585200@www.flnusigepalumni.com
SUMMARY:Annual Flag Football Tournament
DESCRIPTION:
URL:https://www.flnusigepalumni.com/event/annual-flag-football-tournament/
LOCATION:11200 SW 8th St\, Maimi\, FL\, 33199\, United States
ORGANIZER;CN="Sean%20Gazitua":MAILTO:sgazitua@wtdc.com
END:VEVENT
END:VCALENDAR