BEGIN:VCALENDAR
VERSION:2.0
PRODID:-//FIU SigEp Alumni - ECPv4.2.7//NONSGML v1.0//EN
CALSCALE:GREGORIAN
METHOD:PUBLISH
X-WR-CALNAME:FIU SigEp Alumni
X-ORIGINAL-URL:https://www.flnusigepalumni.com
X-WR-CALDESC:Events for FIU SigEp Alumni
BEGIN:VEVENT
DTSTART;TZID=America/New_York:20160301T180000
DTEND;TZID=America/New_York:20160301T200000
DTSTAMP:20260423T162525
CREATED:20160125T231750
LAST-MODIFIED:20160125T231750
UID:6838-1456855200-1456862400@www.flnusigepalumni.com
SUMMARY:Alumni Board Meeting
DESCRIPTION:
URL:https://www.flnusigepalumni.com/event/alumni-board-meeting/
LOCATION:40 NW 3rd Street #1103\, Miami\, 33128\, United States
ORGANIZER;CN="Sean%20Gazitua":MAILTO:sgazitua@wtdc.com
END:VEVENT
END:VCALENDAR