BEGIN:VCALENDAR
VERSION:2.0
PRODID:-//FIU SigEp Alumni - ECPv4.2.7//NONSGML v1.0//EN
CALSCALE:GREGORIAN
METHOD:PUBLISH
X-WR-CALNAME:FIU SigEp Alumni
X-ORIGINAL-URL:https://www.flnusigepalumni.com
X-WR-CALDESC:Events for FIU SigEp Alumni
BEGIN:VEVENT
DTSTART;TZID=America/New_York:20170121T190000
DTEND;TZID=America/New_York:20170122T000000
DTSTAMP:20260423T162633
CREATED:20160122T033504
LAST-MODIFIED:20170117T154912
UID:7066-1485025200-1485043200@www.flnusigepalumni.com
SUMMARY:30 Year Anniversary Celebration
DESCRIPTION:[embed]https://youtu.be/P4hxX88dJKE[/embed]
URL:https://www.flnusigepalumni.com/event/30-year-anniversary-celebration/
LOCATION:2401 Pine Tree Drive\, Miami Beach\, FL\, 33140\, United States
ORGANIZER;CN="Sean%20Gazitua":MAILTO:sgazitua@wtdc.com
END:VEVENT
END:VCALENDAR